BEGIN:VCALENDAR
VERSION:2.0
PRODID:-//Bellingham Business News - ECPv6.15.20//NONSGML v1.0//EN
CALSCALE:GREGORIAN
METHOD:PUBLISH
X-ORIGINAL-URL:https://bellinghambusinessnews.com
X-WR-CALDESC:Events for Bellingham Business News
REFRESH-INTERVAL;VALUE=DURATION:PT1H
X-Robots-Tag:noindex
X-PUBLISHED-TTL:PT1H
BEGIN:VTIMEZONE
TZID:America/Vancouver
BEGIN:DAYLIGHT
TZOFFSETFROM:-0800
TZOFFSETTO:-0700
TZNAME:PDT
DTSTART:20130310T100000
END:DAYLIGHT
BEGIN:STANDARD
TZOFFSETFROM:-0700
TZOFFSETTO:-0800
TZNAME:PST
DTSTART:20131103T090000
END:STANDARD
BEGIN:DAYLIGHT
TZOFFSETFROM:-0800
TZOFFSETTO:-0700
TZNAME:PDT
DTSTART:20140309T100000
END:DAYLIGHT
BEGIN:STANDARD
TZOFFSETFROM:-0700
TZOFFSETTO:-0800
TZNAME:PST
DTSTART:20141102T090000
END:STANDARD
BEGIN:DAYLIGHT
TZOFFSETFROM:-0800
TZOFFSETTO:-0700
TZNAME:PDT
DTSTART:20150308T100000
END:DAYLIGHT
BEGIN:STANDARD
TZOFFSETFROM:-0700
TZOFFSETTO:-0800
TZNAME:PST
DTSTART:20151101T090000
END:STANDARD
END:VTIMEZONE
BEGIN:VEVENT
DTSTART;TZID=America/Vancouver:20141008T120000
DTEND;TZID=America/Vancouver:20141008T140000
DTSTAMP:20260423T161315
CREATED:20141007T231336Z
LAST-MODIFIED:20141007T231336Z
UID:75-1412769600-1412776800@bellinghambusinessnews.com
SUMMARY:Inbound Marketing Event Bellingham\, WA
DESCRIPTION:Invent Coworking\, a local coworking space in downtown Bellingham\, is sponsoring an event to help business owners make the most of their digital marketing. The event features Tony Sova\, owner of Softwired\, a local web design firm founded in 2006. Sova will discuss Inbound Marketing\, a strategy to help business go from simply having a website to guiding visitors all the way to becoming customers. The event promises to teach attendees design methods and more to help your business with effective web design. \nThis event should be a great way for businesses that are new to digital space make the most out of their websites. Small businesses and startups should find the talk particularly valuable\, especially if there is no one with web design experience on staff. Invent Coworking is also a great venue to meet other small business owners\, investors\, and entrepreneurs who are interested in forming collaborative relationships. Take this opportunity to network and learn more about improving your company’s digital space. \nThe Inbound Marketing talk will take place on Wednesday\, October 8th at 12:00pm. The event will be held at Invent Coworking\, located at 114 W. Magnolia St. Suite 505 Bellingham\, WA 98225. The talk is free for Invent members\, $12 for non-members\, and includes lunch. Tickets for non-members can be purchased from Eventbrite.
URL:https://bellinghambusinessnews.com/event/inbound-marketing-event-bellingham-wa/
LOCATION:Invent Coworking\, 114 W. Magnolia St. Suite 505\, Bellingham\, WA\, 98225\, United States
ATTACH;FMTTYPE=image/gif:https://bellinghambusinessnews.com/wp-content/uploads/2014/10/Coworking-Office-Space-Bellingham-WA.gif
END:VEVENT
BEGIN:VEVENT
DTSTART;TZID=America/Vancouver:20141008T114500
DTEND;TZID=America/Vancouver:20141008T133000
DTSTAMP:20260423T161315
CREATED:20141007T233101Z
LAST-MODIFIED:20141007T233101Z
UID:79-1412768700-1412775000@bellinghambusinessnews.com
SUMMARY:Advantages of Hiring a Veteran Event in Bellingham\, WA
DESCRIPTION:Local Veteran’s Employment Representative William Adamek is hosting a session to teach employers about the benefits of hiring veterans\, and the best way to go about it. Adamek has been working as an advocate for the hiring of veterans for over a decade\, and also has a 22-year military background. He has assisted companies from Alaska to Hawaii with setting up corporate level veteran hiring programs\, with an emphasis on hiring disabled soldiers. \nThis session should be informative for both large and small business owners who are interested in learning more about working with veterans. Veterans can\, usually\, list extensive technical skills and leadership experience among their credentials\, and are often valued as responsible and polite employees. Although larger businesses should be more capable of providing the resources necessary to hire disabled veterans\, small business owners should also consider attending to determine whether or not a returning soldier might fit their hiring needs. \nThe event will take place on Wednesday\, October 8th\, at Northwood Hall\, 3240 Northwest Ave. Bellingham\, WA 98225. Tickets can include both the program and lunch\, or the program as a standalone\, and may be purchased from Eventbrite. The standalone program is free for students.\n￼￼
URL:https://bellinghambusinessnews.com/event/advantages-hiring-veteran-event-bellingham-wa/
LOCATION:Northwood Hall\, 3240 Northwest Ave.\, Bellingham\, WA\, 98225\, United States
ATTACH;FMTTYPE=image/jpeg:https://bellinghambusinessnews.com/wp-content/uploads/2014/10/hiring-an-army-vet.jpg
ORGANIZER;CN="Mt Baker SHRM":MAILTO:info.mtbakershrm [at] gmail.com
END:VEVENT
BEGIN:VEVENT
DTSTART;TZID=America/Vancouver:20141003T174500
DTEND;TZID=America/Vancouver:20141003T210000
DTSTAMP:20260423T161315
CREATED:20141011T040015Z
LAST-MODIFIED:20141024T044441Z
UID:154-1412358300-1412370000@bellinghambusinessnews.com
SUMMARY:Bellingham Scary History Tours
DESCRIPTION:It’s October again\, and that means Halloween is coming\, which in turn means that Scary History Tours are back from the Bureau of Historical Investigation. The Bureau’s Good Time Girls promise to “thrill and chill you with local lore and real history!” If your staff have the stomach for it\, the tours offer a great opportunity for a Fall team building exercise. They also provide those of an entrepreneurial spirit the chance to see a successful homegrown business in action\, and maybe pick up some inspiration alongside the trauma. \nWhat you need to know: \n\nBellingham tours take place on Friday and Saturday nights\, and meet at the Bureau of Historical Investigation\nFairhaven tours take place on Friday nights only\, and meet in the indoor courtyard of the Sycamore Square Building\nA special tour + costume masquerade takes place on Wednesday\, October 29th at Bayou on the Bay.\nBellingham tours are Friday and Saturday nights\, running all month. Fairhaven tours are Friday nights only.\nGeneral admission is $15.\nSpecial tarot readings from a local psychic can be purchased for $10 after Saturday Downtown tours\, or palm readings for $8 after the Fairhaven tours.\n\nThe tours are rated R for violence\, gore\, and language\, so minors between 13-17 must be accompanied by an adult. To purchase tickets or learn more visit the Bureau’s event page.
URL:https://bellinghambusinessnews.com/event/bellingham-scary-history-tours/
LOCATION:Bureau of Historical Investigation\, 217 West Holly St\, Bellingham\, WA\, United States
ATTACH;FMTTYPE=image/png:https://bellinghambusinessnews.com/wp-content/uploads/2014/10/Bureau-of-Historical-Investigation.png
END:VEVENT
END:VCALENDAR